BEGIN:VCALENDAR
VERSION:2.0
PRODID:-//CJCB - ECPv4.6.26//NONSGML v1.0//EN
CALSCALE:GREGORIAN
METHOD:PUBLISH
X-WR-CALNAME:CJCB
X-ORIGINAL-URL:https://cjcbradio.com
X-WR-CALDESC:Events for CJCB
BEGIN:VEVENT
DTSTART;TZID=America/Halifax:20260202T153000
DTEND;TZID=America/Halifax:20260202T193000
DTSTAMP:20260421T094225
CREATED:20260114T160800Z
LAST-MODIFIED:20260420T174717Z
UID:10553-1770046200-1770060600@cjcbradio.com
SUMMARY:DnD Monday
DESCRIPTION:Glace Bay Library \nEvery Monday 3:30-7:30 \n
URL:https://cjcbradio.com/event/dnd-monday-5/2026-02-02/
END:VEVENT
END:VCALENDAR