BEGIN:VCALENDAR
VERSION:2.0
PRODID:-//CJCB - ECPv4.6.26//NONSGML v1.0//EN
CALSCALE:GREGORIAN
METHOD:PUBLISH
X-WR-CALNAME:CJCB
X-ORIGINAL-URL:https://cjcbradio.com
X-WR-CALDESC:Events for CJCB
BEGIN:VEVENT
DTSTART;TZID=America/Halifax:20230112T183000
DTEND;TZID=America/Halifax:20230112T193000
DTSTAMP:20260421T025910
CREATED:20221230T143610Z
LAST-MODIFIED:20221230T143918Z
UID:8777-1673548200-1673551800@cjcbradio.com
SUMMARY:Documentary Video Series
DESCRIPTION:Where:  Glace Bay Library \nWhen:  January 12th from 6:30pm-7:30pm \nCome and watch the Great Estates of Scotland. \n
URL:https://cjcbradio.com/event/documentary-video-series/
END:VEVENT
END:VCALENDAR