BEGIN:VCALENDAR
VERSION:2.0
PRODID:-//CJCB - ECPv4.6.26//NONSGML v1.0//EN
CALSCALE:GREGORIAN
METHOD:PUBLISH
X-WR-CALNAME:CJCB
X-ORIGINAL-URL:https://cjcbradio.com
X-WR-CALDESC:Events for CJCB
BEGIN:VEVENT
DTSTART;TZID=America/Halifax:20240726T140000
DTEND;TZID=America/Halifax:20240726T160000
DTSTAMP:20260423T101823
CREATED:20240722T173301Z
LAST-MODIFIED:20240722T173301Z
UID:9811-1722002400-1722009600@cjcbradio.com
SUMMARY:Dominion Heritage School House Museum Heritage Day
DESCRIPTION:Friday July 26 2pm-4pm! 6715 Seaside Drive\, Dominion – Red School house in front of the beach.\nLots happening. CBU Let’s Talk Science Group will be there and there focus will be on Space. The Turnbull Brothers will be performing as well Mario Colosimo. Balloon Making and Face Painting! As well\, you can take a walking tour with Theresa – a trip down memory lane! Barbecue\, Bake Goods and Fudge Sale. Flea Market. Raffle Draw with some large prizes up for grabs. Its going to be a great time. Bring your family and friends. Let’s Make memories together! event is for all ages! \n
URL:https://cjcbradio.com/event/dominion-heritage-school-house-museum-heritage-day/
END:VEVENT
END:VCALENDAR