BEGIN:VCALENDAR
VERSION:2.0
PRODID:-//CJCB - ECPv4.6.26//NONSGML v1.0//EN
CALSCALE:GREGORIAN
METHOD:PUBLISH
X-WR-CALNAME:CJCB
X-ORIGINAL-URL:https://cjcbradio.com
X-WR-CALDESC:Events for CJCB
BEGIN:VEVENT
DTSTART;VALUE=DATE:20250814
DTEND;VALUE=DATE:20250815
DTSTAMP:20260425T162943
CREATED:20250811T131102Z
LAST-MODIFIED:20250811T131102Z
UID:10343-1755129600-1755215999@cjcbradio.com
SUMMARY:DQ Miracle Treat Day
DESCRIPTION:Hey DQ Fans! \nMark your calendars: Thursday\, August 14th is Miracle Treat Day 2025! \nFor every Blizzard Treat you buy at DQ’s in Sydney and Sydney River\, net proceeds will be donated to the IWK Children’s Hospital. \nSo you can help kids in need and satisfy your sweet tooth at the same time! \nNow that sounds pretty sweet\, doesn’t it? \nRemember! That’s 2025 Miracle Treat Day\, coming up Thursday\, August 14th. \nOnly at DQ! Happy Tastes Good. \n  \n
URL:https://cjcbradio.com/event/dq-miracle-treat-day/
END:VEVENT
END:VCALENDAR