BEGIN:VCALENDAR
VERSION:2.0
PRODID:-//CJCB - ECPv4.6.26//NONSGML v1.0//EN
CALSCALE:GREGORIAN
METHOD:PUBLISH
X-WR-CALNAME:CJCB
X-ORIGINAL-URL:https://cjcbradio.com
X-WR-CALDESC:Events for CJCB
BEGIN:VEVENT
DTSTART;TZID=America/Halifax:20241104T153000
DTEND;TZID=America/Halifax:20241104T180000
DTSTAMP:20260422T044334
CREATED:20241031T135614Z
LAST-MODIFIED:20241031T135930Z
UID:9965-1730734200-1730743200@cjcbradio.com
SUMMARY:Dungeons and Dragons
DESCRIPTION:Glace Bay Library \nEvery Monday 3:30-6pm \n
URL:https://cjcbradio.com/event/dungeons-and-dragons-10/2024-11-04/
END:VEVENT
END:VCALENDAR