BEGIN:VCALENDAR
VERSION:2.0
PRODID:-//CJCB - ECPv4.6.26//NONSGML v1.0//EN
CALSCALE:GREGORIAN
METHOD:PUBLISH
X-WR-CALNAME:CJCB
X-ORIGINAL-URL:https://cjcbradio.com
X-WR-CALDESC:Events for CJCB
BEGIN:VEVENT
DTSTART;TZID=America/Halifax:20240906T160000
DTEND;TZID=America/Halifax:20240906T173000
DTSTAMP:20260422T170818
CREATED:20240830T141556Z
LAST-MODIFIED:20240830T141556Z
UID:9852-1725638400-1725643800@cjcbradio.com
SUMMARY:Dungeons and Dragons
DESCRIPTION:Glace Bay Library \nEvery Friday Fri (4-5:30pm) \n
URL:https://cjcbradio.com/event/dungeons-and-dragons-7/2024-09-06/
END:VEVENT
END:VCALENDAR