BEGIN:VCALENDAR
VERSION:2.0
PRODID:-//CJCB - ECPv4.6.26//NONSGML v1.0//EN
CALSCALE:GREGORIAN
METHOD:PUBLISH
X-WR-CALNAME:CJCB
X-ORIGINAL-URL:https://cjcbradio.com
X-WR-CALDESC:Events for CJCB
BEGIN:VEVENT
DTSTART;TZID=America/Halifax:20241014T153000
DTEND;TZID=America/Halifax:20241014T180000
DTSTAMP:20260423T101635
CREATED:20241008T122033Z
LAST-MODIFIED:20241008T122033Z
UID:9910-1728919800-1728928800@cjcbradio.com
SUMMARY:Dungeons and Dragons
DESCRIPTION:Glace Bay Library \nEvery Monday  3:30-6pm \n
URL:https://cjcbradio.com/event/dungeons-and-dragons-8/2024-10-14/
END:VEVENT
END:VCALENDAR