BEGIN:VCALENDAR
VERSION:2.0
PRODID:-//CJCB - ECPv4.6.26//NONSGML v1.0//EN
CALSCALE:GREGORIAN
METHOD:PUBLISH
X-WR-CALNAME:CJCB
X-ORIGINAL-URL:https://cjcbradio.com
X-WR-CALDESC:Events for CJCB
BEGIN:VEVENT
DTSTART;TZID=America/Halifax:20250419T100000
DTEND;TZID=America/Halifax:20250419T130000
DTSTAMP:20260424T062456
CREATED:20250403T172441Z
LAST-MODIFIED:20250403T172551Z
UID:10165-1745056800-1745067600@cjcbradio.com
SUMMARY:Easter Egg Hunt
DESCRIPTION:Glace Bay Library \nSaturday April 19 \n10am-1pm \nHi-Ho Hippity-Hop! Do the Easter Bunny Hop around the library and hunt for eggs! \n\n
URL:https://cjcbradio.com/event/easter-egg-hunt-3/
END:VEVENT
END:VCALENDAR