BEGIN:VCALENDAR
VERSION:2.0
PRODID:-//CJCB - ECPv4.6.26//NONSGML v1.0//EN
CALSCALE:GREGORIAN
METHOD:PUBLISH
X-WR-CALNAME:CJCB
X-ORIGINAL-URL:https://cjcbradio.com
X-WR-CALDESC:Events for CJCB
BEGIN:VEVENT
DTSTART;TZID=America/Halifax:20171220T120000
DTEND;TZID=America/Halifax:20171220T130000
DTSTAMP:20260425T195849
CREATED:20171218T142902Z
LAST-MODIFIED:20171218T142902Z
UID:1325-1513771200-1513774800@cjcbradio.com
SUMMARY:Ecumenical Worship Services
DESCRIPTION:Community Advent Mid-Week Ecumenical Worship Services Theme – “Prepare Our Hearts and Minds for Christmas” on Wednesday\, December 20th at St. Anne’s Catholic Church\, Main Street\, Glace Bay at 12 PM. \n
URL:https://cjcbradio.com/event/ecumenical-worship-services/
END:VEVENT
END:VCALENDAR