BEGIN:VCALENDAR
VERSION:2.0
PRODID:-//CJCB - ECPv4.6.26//NONSGML v1.0//EN
CALSCALE:GREGORIAN
METHOD:PUBLISH
X-WR-CALNAME:CJCB
X-ORIGINAL-URL:https://cjcbradio.com
X-WR-CALDESC:Events for CJCB
BEGIN:VEVENT
DTSTART;TZID=America/Halifax:20230517T153000
DTEND;TZID=America/Halifax:20230517T173000
DTSTAMP:20260424T100651
CREATED:20230505T174758Z
LAST-MODIFIED:20230505T174842Z
UID:9050-1684337400-1684344600@cjcbradio.com
SUMMARY:Egg Tempera Painting 
DESCRIPTION:Glace Bay Library \nWednesday May 17 \n3:30pm – 5:30pm \nKids and teens are welcome to join us to learn how to make and paint with egg tempera with The CBU Art Bus. registration is required. \n  \n
URL:https://cjcbradio.com/event/egg-tempera-painting-2/
END:VEVENT
END:VCALENDAR