BEGIN:VCALENDAR
VERSION:2.0
PRODID:-//CJCB - ECPv4.6.26//NONSGML v1.0//EN
CALSCALE:GREGORIAN
METHOD:PUBLISH
X-WR-CALNAME:CJCB
X-ORIGINAL-URL:https://cjcbradio.com
X-WR-CALDESC:Events for CJCB
BEGIN:VEVENT
DTSTART;TZID=America/Halifax:20230517T130000
DTEND;TZID=America/Halifax:20230517T150000
DTSTAMP:20260424T114011
CREATED:20230505T174548Z
LAST-MODIFIED:20230505T174725Z
UID:9048-1684328400-1684335600@cjcbradio.com
SUMMARY:Egg Tempera Painting 
DESCRIPTION:Glace Bay Library \nWednesday May 17 \n1pm – 3pm \nAdults are welcome to join us to learn how to make and paint with egg tempera with The CBU Art Bus. registration is required. \n  \n
URL:https://cjcbradio.com/event/egg-tempera-painting/
END:VEVENT
END:VCALENDAR