BEGIN:VCALENDAR
VERSION:2.0
PRODID:-//CJCB - ECPv4.6.26//NONSGML v1.0//EN
CALSCALE:GREGORIAN
METHOD:PUBLISH
X-WR-CALNAME:CJCB
X-ORIGINAL-URL:https://cjcbradio.com
X-WR-CALDESC:Events for CJCB
BEGIN:VEVENT
DTSTART;TZID=America/Halifax:20260509T110000
DTEND;TZID=America/Halifax:20260509T140000
DTSTAMP:20260420T232116
CREATED:20260420T173551Z
LAST-MODIFIED:20260420T173551Z
UID:10705-1778324400-1778335200@cjcbradio.com
SUMMARY:Eltuek Arts Centre Spring Market
DESCRIPTION:Join us for our Spring Market! Just in time for Mother’s Day \nSaturday\, May 9\n11AM–2PM\nEltuek Arts Centre (Gallery 211) \n20+ local vendors featuring baked goods\, handmade items\, and more! \n
URL:https://cjcbradio.com/event/eltuek-arts-centre-spring-market/
END:VEVENT
END:VCALENDAR