BEGIN:VCALENDAR
VERSION:2.0
PRODID:-//CJCB - ECPv4.6.26//NONSGML v1.0//EN
CALSCALE:GREGORIAN
METHOD:PUBLISH
X-WR-CALNAME:CJCB
X-ORIGINAL-URL:https://cjcbradio.com
X-WR-CALDESC:Events for CJCB
BEGIN:VEVENT
DTSTART;TZID=America/Halifax:20240416T180000
DTEND;TZID=America/Halifax:20240416T190000
DTSTAMP:20260421T230003
CREATED:20240415T145956Z
LAST-MODIFIED:20240415T145956Z
UID:9605-1713290400-1713294000@cjcbradio.com
SUMMARY:English Conversations
DESCRIPTION:Glace Bay Library \nTuesdays \n6 – 7pm \nNew to Canada or want to improve your English Conversation skills?  Join us for an hour of conversation and learning.  Registration required.  Please email dkaiser@cbrl.ca \n
URL:https://cjcbradio.com/event/english-conversations-15/2024-04-16/
END:VEVENT
END:VCALENDAR