BEGIN:VCALENDAR
VERSION:2.0
PRODID:-//CJCB - ECPv4.6.26//NONSGML v1.0//EN
CALSCALE:GREGORIAN
METHOD:PUBLISH
X-WR-CALNAME:CJCB
X-ORIGINAL-URL:https://cjcbradio.com
X-WR-CALDESC:Events for CJCB
BEGIN:VEVENT
DTSTART;TZID=America/Halifax:20260203T183000
DTEND;TZID=America/Halifax:20260331T193000
DTSTAMP:20260421T080326
CREATED:20260114T151645Z
LAST-MODIFIED:20260211T151208Z
UID:10556-1770143400-1774985400@cjcbradio.com
SUMMARY:English Conversations
DESCRIPTION:Glace Bay Library \nEvery Tuesday \n6:30 – 7:30pm \nRegistration Required. \n  \n
URL:https://cjcbradio.com/event/english-conversations-26/2026-02-03/
END:VEVENT
END:VCALENDAR