BEGIN:VCALENDAR
VERSION:2.0
PRODID:-//CJCB - ECPv4.6.26//NONSGML v1.0//EN
CALSCALE:GREGORIAN
METHOD:PUBLISH
X-WR-CALNAME:CJCB
X-ORIGINAL-URL:https://cjcbradio.com
X-WR-CALDESC:Events for CJCB
BEGIN:VEVENT
DTSTART;TZID=America/Halifax:20231107T180000
DTEND;TZID=America/Halifax:20231107T190000
DTSTAMP:20260422T201407
CREATED:20231106T160922Z
LAST-MODIFIED:20231106T160922Z
UID:9333-1699380000-1699383600@cjcbradio.com
SUMMARY:English Conversations
DESCRIPTION:Glace Bay Library \nTues Nov 7 \n6 – 7pm \nNew to Canada or want to improve your English Conversation skills? Join us for an hour of conversation and learning. Registration required. Please email dkaiser@cbrl.ca \n\n
URL:https://cjcbradio.com/event/english-conversations-7/
END:VEVENT
END:VCALENDAR