BEGIN:VCALENDAR
VERSION:2.0
PRODID:-//CJCB - ECPv4.6.26//NONSGML v1.0//EN
CALSCALE:GREGORIAN
METHOD:PUBLISH
X-WR-CALNAME:CJCB
X-ORIGINAL-URL:https://cjcbradio.com
X-WR-CALDESC:Events for CJCB
BEGIN:VEVENT
DTSTART;TZID=America/Halifax:20191109T100000
DTEND;TZID=America/Halifax:20191109T140000
DTSTAMP:20260421T142035
CREATED:20191028T181529Z
LAST-MODIFIED:20191028T181529Z
UID:5934-1573293600-1573308000@cjcbradio.com
SUMMARY:Fall Fair
DESCRIPTION:Come join the Fall Fair at Sydney River United Protestant Church hall\, 1524 Kings Road on Saturday\, November 9th from 10-2pm. There will be vendors selling crafts\, knitted goods\, cosmetics\, knitted goods\, leggings\, and lots of home cooking. Enjoy a tea or coffee & a muffin for only  $2 admission \n
URL:https://cjcbradio.com/event/fall-fair-9/
END:VEVENT
END:VCALENDAR