BEGIN:VCALENDAR
VERSION:2.0
PRODID:-//CJCB - ECPv4.6.26//NONSGML v1.0//EN
CALSCALE:GREGORIAN
METHOD:PUBLISH
X-WR-CALNAME:CJCB
X-ORIGINAL-URL:https://cjcbradio.com
X-WR-CALDESC:Events for CJCB
BEGIN:VEVENT
DTSTART;TZID=America/Halifax:20190119T190000
DTEND;TZID=America/Halifax:20190119T220000
DTSTAMP:20260422T140336
CREATED:20190108T184537Z
LAST-MODIFIED:20190108T184537Z
UID:5113-1547924400-1547935200@cjcbradio.com
SUMMARY:Family Square Dance
DESCRIPTION:FAMILY SQUARE DANCE. MUSIC BY DWAYNE COTE AND JASON MACDONALD\nSATURDAY\, JANUARY 19\, 7:00 PM – 10:00 PM\nADMISSION AT THE DOOR\nADULTS $10.00 * YOUTH 19 & UNDER $5.00\nFAMILY $25.00 / 2 ADULTS AND UP TO 5 CHILDREN\nCommunity Hall\, Marion Bridge\, 3921 Gabarus Hwy\, Marion Bridge \n
URL:https://cjcbradio.com/event/family-square-dance/
END:VEVENT
END:VCALENDAR