BEGIN:VCALENDAR
VERSION:2.0
PRODID:-//CJCB - ECPv4.6.26//NONSGML v1.0//EN
CALSCALE:GREGORIAN
METHOD:PUBLISH
X-WR-CALNAME:CJCB
X-ORIGINAL-URL:https://cjcbradio.com
X-WR-CALDESC:Events for CJCB
BEGIN:VEVENT
DTSTART;TZID=America/Halifax:20250405T120000
DTEND;TZID=America/Halifax:20250405T150000
DTSTAMP:20260423T101624
CREATED:20250320T150007Z
LAST-MODIFIED:20250320T150007Z
UID:10141-1743854400-1743865200@cjcbradio.com
SUMMARY:Fashion Show tickets
DESCRIPTION:Limited tickets still available for the Spring Fashion Show in support of the Cape Breastoners Dragon Boat Team. Saturday\, April 5\, 12 – 3 p.m. Tickets $45 includes lunch. Fashions by Emerald Isle. Contact prescapebreastoners@outlook.com \n
URL:https://cjcbradio.com/event/fashion-show-tickets/
END:VEVENT
END:VCALENDAR