BEGIN:VCALENDAR
VERSION:2.0
PRODID:-//CJCB - ECPv4.6.26//NONSGML v1.0//EN
CALSCALE:GREGORIAN
METHOD:PUBLISH
X-WR-CALNAME:CJCB
X-ORIGINAL-URL:https://cjcbradio.com
X-WR-CALDESC:Events for CJCB
BEGIN:VEVENT
DTSTART;TZID=America/Halifax:20230714T133000
DTEND;TZID=America/Halifax:20230714T153000
DTSTAMP:20260424T072027
CREATED:20230626T174856Z
LAST-MODIFIED:20230626T174856Z
UID:9161-1689341400-1689348600@cjcbradio.com
SUMMARY:Fiber Friday
DESCRIPTION:Glace Bay Library \nFriday July 14 \n1:30 – 3:30 \nAll are welcome to come and bring their fiber craft to work on\, socialize and stay cool \n  \n
URL:https://cjcbradio.com/event/fiber-friday-2/
END:VEVENT
END:VCALENDAR