BEGIN:VCALENDAR
VERSION:2.0
PRODID:-//CJCB - ECPv4.6.26//NONSGML v1.0//EN
CALSCALE:GREGORIAN
METHOD:PUBLISH
X-WR-CALNAME:CJCB
X-ORIGINAL-URL:https://cjcbradio.com
X-WR-CALDESC:Events for CJCB
BEGIN:VEVENT
DTSTART;TZID=America/Halifax:20190921T090000
DTEND;TZID=America/Halifax:20190922T160000
DTSTAMP:20260422T214630
CREATED:20190912T184517Z
LAST-MODIFIED:20190912T184517Z
UID:5761-1569056400-1569168000@cjcbradio.com
SUMMARY:First Aid/CPR Course
DESCRIPTION:First Aid/CPR Course being held at Town House on Saturday\, September 21 & Sunday\, September 22 from 9am – 4pm. The cost is $110.00. Limited space available. Call Town House to register 902-849-2449. \n
URL:https://cjcbradio.com/event/first-aid-cpr-course/
END:VEVENT
END:VCALENDAR