BEGIN:VCALENDAR
VERSION:2.0
PRODID:-//CJCB - ECPv4.6.26//NONSGML v1.0//EN
CALSCALE:GREGORIAN
METHOD:PUBLISH
X-WR-CALNAME:CJCB
X-ORIGINAL-URL:https://cjcbradio.com
X-WR-CALDESC:Events for CJCB
BEGIN:VEVENT
DTSTART;TZID=America/Halifax:20230318T150000
DTEND;TZID=America/Halifax:20230318T170000
DTSTAMP:20260422T081313
CREATED:20230227T144859Z
LAST-MODIFIED:20230227T144859Z
UID:8911-1679151600-1679158800@cjcbradio.com
SUMMARY:Fishcake & Baked Bean Supper
DESCRIPTION:What:      Fishcake and baked bean supper with dessert.\nWhere:    Boisdale Firehall\nWhen:     Saturday Mar.18/23. 3-5pm  Eat-in or take-out $17.00\nCall Peggy 902-304-6787 to pre-order\nWhy:       In support of Park 223 on-going construction and maintenance.\nWho:      The Hills of Boisdale Community Association. \n
URL:https://cjcbradio.com/event/fishcake-baked-bean-supper/
END:VEVENT
END:VCALENDAR