BEGIN:VCALENDAR
VERSION:2.0
PRODID:-//CJCB - ECPv4.6.26//NONSGML v1.0//EN
CALSCALE:GREGORIAN
METHOD:PUBLISH
X-WR-CALNAME:CJCB
X-ORIGINAL-URL:https://cjcbradio.com
X-WR-CALDESC:Events for CJCB
BEGIN:VEVENT
DTSTART;TZID=America/Halifax:20250901T120000
DTEND;TZID=America/Halifax:20250901T140000
DTSTAMP:20260425T150741
CREATED:20250819T122032Z
LAST-MODIFIED:20250819T122032Z
UID:10346-1756728000-1756735200@cjcbradio.com
SUMMARY:Free family picnic
DESCRIPTION:Free family picnic for everyone on Labour Day from 12-2 at Open Hearth Park. Hosted by Cape Breton District Labour Council. There will be music\, magic show\, balloon animals\, face painting\, guest speakers and other free stuff for all ages. There will be draws for the kids for some Gift Cards also and 50/50 tickets. \n
URL:https://cjcbradio.com/event/free-family-picnic/
END:VEVENT
END:VCALENDAR