BEGIN:VCALENDAR
VERSION:2.0
PRODID:-//CJCB - ECPv4.6.26//NONSGML v1.0//EN
CALSCALE:GREGORIAN
METHOD:PUBLISH
X-WR-CALNAME:CJCB
X-ORIGINAL-URL:https://cjcbradio.com
X-WR-CALDESC:Events for CJCB
BEGIN:VEVENT
DTSTART;TZID=America/Halifax:20200104T110000
DTEND;TZID=America/Halifax:20200104T123000
DTSTAMP:20260422T133819
CREATED:20200103T184540Z
LAST-MODIFIED:20200103T184540Z
UID:6149-1578135600-1578141000@cjcbradio.com
SUMMARY:Free Skate
DESCRIPTION:Sydney Mines & District Community Center will have a free family skate on Sat. Jan. 4th from 11am to 12:30pm sponsored by the George’s River Volunteer Dept. \n
URL:https://cjcbradio.com/event/free-skate-3/
END:VEVENT
END:VCALENDAR