BEGIN:VCALENDAR
VERSION:2.0
PRODID:-//CJCB - ECPv4.6.26//NONSGML v1.0//EN
CALSCALE:GREGORIAN
METHOD:PUBLISH
X-WR-CALNAME:CJCB
X-ORIGINAL-URL:https://cjcbradio.com
X-WR-CALDESC:Events for CJCB
BEGIN:VEVENT
DTSTART;TZID=America/Halifax:20200307T110000
DTEND;TZID=America/Halifax:20200307T123000
DTSTAMP:20260421T111927
CREATED:20200205T171955Z
LAST-MODIFIED:20200205T171955Z
UID:6299-1583578800-1583584200@cjcbradio.com
SUMMARY:Free Skate
DESCRIPTION:Sydney Mines & District Community Center is offering free family skates for the month of Feb. and March 2020. Every Saturday from 11am to 12:30pm \nMarch 7th sponsored by The Canadian Senior Little League\, Sydney Mines \n
URL:https://cjcbradio.com/event/free-skate-8/
END:VEVENT
END:VCALENDAR