BEGIN:VCALENDAR
VERSION:2.0
PRODID:-//CJCB - ECPv4.6.26//NONSGML v1.0//EN
CALSCALE:GREGORIAN
METHOD:PUBLISH
X-WR-CALNAME:CJCB
X-ORIGINAL-URL:https://cjcbradio.com
X-WR-CALDESC:Events for CJCB
BEGIN:VEVENT
DTSTART;TZID=America/Halifax:20250415T180000
DTEND;TZID=America/Halifax:20250415T193000
DTSTAMP:20260424T032249
CREATED:20250403T172355Z
LAST-MODIFIED:20250403T172355Z
UID:10164-1744740000-1744745400@cjcbradio.com
SUMMARY:Garden Planning
DESCRIPTION:Glace Bay Library \nTues April 15 \n6 – 7:30 \nLearn about square foot gardening\, crop rotation\, companion planting and container gardening \n\n\n
URL:https://cjcbradio.com/event/garden-planning/
END:VEVENT
END:VCALENDAR