BEGIN:VCALENDAR
VERSION:2.0
PRODID:-//CJCB - ECPv4.6.26//NONSGML v1.0//EN
CALSCALE:GREGORIAN
METHOD:PUBLISH
X-WR-CALNAME:CJCB
X-ORIGINAL-URL:https://cjcbradio.com
X-WR-CALDESC:Events for CJCB
BEGIN:VEVENT
DTSTART;VALUE=DATE:20250405
DTEND;VALUE=DATE:20250406
DTSTAMP:20260423T131702
CREATED:20250403T170931Z
LAST-MODIFIED:20250403T170931Z
UID:10152-1743811200-1743897599@cjcbradio.com
SUMMARY:Glace Bay Community Clean Up
DESCRIPTION:A clean up event for Reserve Street on April 5th.  There will be bags and gloves provided as well they will have raffle prizes and gift cards for the first bags brought back. \n
URL:https://cjcbradio.com/event/glace-bay-community-clean-up/
END:VEVENT
END:VCALENDAR