BEGIN:VCALENDAR
VERSION:2.0
PRODID:-//CJCB - ECPv4.6.26//NONSGML v1.0//EN
CALSCALE:GREGORIAN
METHOD:PUBLISH
X-WR-CALNAME:CJCB
X-ORIGINAL-URL:https://cjcbradio.com
X-WR-CALDESC:Events for CJCB
BEGIN:VEVENT
DTSTART;TZID=UTC+0:20171013T180000
DTEND;TZID=UTC+0:20171013T220000
DTSTAMP:20260421T032914
CREATED:20170928T220936Z
LAST-MODIFIED:20170928T220936Z
UID:1048-1507917600-1507932000@cjcbradio.com
SUMMARY:Glace Bay Hospital Foundation Fundraiser
DESCRIPTION:Friday\, October 13th at 6 PM \nChicken Dinner Fundraiser for the Glace Bay Hospital Foundation. $20/ticket Includes the Italian Hall famous chicken dinner\, with tea/coffee and dessert. Open Bar. Music by Mario Colosimo. Tickets Available by phoning Cathy at 849-1567 or join our facebook page and send us a message \n
URL:https://cjcbradio.com/event/glace-bay-hospital-foundation-fundraiser/
END:VEVENT
END:VCALENDAR