BEGIN:VCALENDAR
VERSION:2.0
PRODID:-//CJCB - ECPv4.6.26//NONSGML v1.0//EN
CALSCALE:GREGORIAN
METHOD:PUBLISH
X-WR-CALNAME:CJCB
X-ORIGINAL-URL:https://cjcbradio.com
X-WR-CALDESC:Events for CJCB
BEGIN:VEVENT
DTSTART;TZID=America/Halifax:20200208T093000
DTEND;TZID=America/Halifax:20200208T110000
DTSTAMP:20260423T114439
CREATED:20200205T135052Z
LAST-MODIFIED:20200205T135052Z
UID:6267-1581154200-1581159600@cjcbradio.com
SUMMARY:Good Food Bus
DESCRIPTION:Good Food Bus\, Affordable\, Fresh Food Market on Wheels \nLocation:  Coastal Discovery Centre\, Main-A-Dieu \nDate:  Feb 8th\, Feb 22nd\, Mar 7th\, Mar 21st \nTime:  930 AM – 1100 AM \n
URL:https://cjcbradio.com/event/good-food-bus-7/
END:VEVENT
END:VCALENDAR