BEGIN:VCALENDAR
VERSION:2.0
PRODID:-//CJCB - ECPv4.6.26//NONSGML v1.0//EN
CALSCALE:GREGORIAN
METHOD:PUBLISH
X-WR-CALNAME:CJCB
X-ORIGINAL-URL:https://cjcbradio.com
X-WR-CALDESC:Events for CJCB
BEGIN:VEVENT
DTSTART;TZID=UTC+0:20171013T190000
DTEND;TZID=UTC+0:20171031T210000
DTSTAMP:20260421T070632
CREATED:20171011T210046Z
LAST-MODIFIED:20171011T210046Z
UID:1089-1507921200-1509483600@cjcbradio.com
SUMMARY:Halloween Haunt
DESCRIPTION:The Southend Community Centre is partnering with Westside Cemetery to bring a Halloween Haunt to the community. We would love if this event could be added to your community calendar. Here are the details: Date: Various shows between October 13 – 31 Time: 7:00 pm Location: Southend Community Centre (1464 George Street\, Sydney NS) Details: The Westside Cemetery is coming to the Southend Community Centre and will be sure to give all guests and thrill-seekers a spooktacular visit! With detailed sets and great\, gory actors\, this haunted Halloween walk will definitely give you the chills. Tickets are $10.00 and can be purchased at the door. For more details\, including kids shows\, visit the Southend Community Centre’s Facebook page. \n
URL:https://cjcbradio.com/event/halloween-haunt/
END:VEVENT
END:VCALENDAR