BEGIN:VCALENDAR
VERSION:2.0
PRODID:-//CJCB - ECPv4.6.26//NONSGML v1.0//EN
CALSCALE:GREGORIAN
METHOD:PUBLISH
X-WR-CALNAME:CJCB
X-ORIGINAL-URL:https://cjcbradio.com
X-WR-CALDESC:Events for CJCB
BEGIN:VEVENT
DTSTART;TZID=America/Halifax:20190529T110000
DTEND;TZID=America/Halifax:20190529T130000
DTSTAMP:20260422T140208
CREATED:20190516T122149Z
LAST-MODIFIED:20190516T122149Z
UID:5438-1559127600-1559134800@cjcbradio.com
SUMMARY:Ham and Salad Lunch
DESCRIPTION:Holy Family Cwl will be having a ham and salad lunch May 29th at 11am to 1pm. 2019 at Holy Family Parish Hall Main Street\, Sydney Mines. Take out only. Cost is $10.00. For tickets call Lola 902 736 8862 or Gloria 902 736 3421. See You there! \n
URL:https://cjcbradio.com/event/ham-and-salad-lunch/
END:VEVENT
END:VCALENDAR