BEGIN:VCALENDAR
VERSION:2.0
PRODID:-//CJCB - ECPv4.6.26//NONSGML v1.0//EN
CALSCALE:GREGORIAN
METHOD:PUBLISH
X-WR-CALNAME:CJCB
X-ORIGINAL-URL:https://cjcbradio.com
X-WR-CALDESC:Events for CJCB
BEGIN:VEVENT
DTSTART;TZID=America/Halifax:20180616T173000
DTEND;TZID=America/Halifax:20180616T193000
DTSTAMP:20260422T232718
CREATED:20180522T131019Z
LAST-MODIFIED:20180522T131019Z
UID:1343-1529170200-1529177400@cjcbradio.com
SUMMARY:Ham and Salad Supper
DESCRIPTION:A Ham and Salad Supper will be held at Our Lady of Fatima Parish Hall on Saturday June 16\, 2018 @ 5:30 pm. Tickets are $10.00 per person and are available at the Parish Office or by calling Allan @ 902-564-5788 or Frank @ 902-562-2957. Deadline for tickets is June 10\, 2018. \n
URL:https://cjcbradio.com/event/ham-and-salad-supper-4/
END:VEVENT
END:VCALENDAR