BEGIN:VCALENDAR
VERSION:2.0
PRODID:-//CJCB - ECPv4.6.26//NONSGML v1.0//EN
CALSCALE:GREGORIAN
METHOD:PUBLISH
X-WR-CALNAME:CJCB
X-ORIGINAL-URL:https://cjcbradio.com
X-WR-CALDESC:Events for CJCB
BEGIN:VEVENT
DTSTART;VALUE=DATE:20230418
DTEND;VALUE=DATE:20230419
DTSTAMP:20260422T091033
CREATED:20230411T180439Z
LAST-MODIFIED:20230411T180439Z
UID:9006-1681776000-1681862399@cjcbradio.com
SUMMARY:Ham & Potato Salad with Ginger Cake Dinner
DESCRIPTION:ST. COLUMBA Church Hall – Marion Bridge\nTake Out ONLY – Friday\, April 21st 4-6pm PickUp\nAdults $14 & Children $7\nMust preorder tickets by Tues. April 18th: Phone Janice 727-2194 or Audrey 727-2253. \n
URL:https://cjcbradio.com/event/ham-potato-salad-with-ginger-cake-dinner/
END:VEVENT
END:VCALENDAR