BEGIN:VCALENDAR
VERSION:2.0
PRODID:-//CJCB - ECPv4.6.26//NONSGML v1.0//EN
CALSCALE:GREGORIAN
METHOD:PUBLISH
X-WR-CALNAME:CJCB
X-ORIGINAL-URL:https://cjcbradio.com
X-WR-CALDESC:Events for CJCB
BEGIN:VEVENT
DTSTART;TZID=America/Halifax:20241102T120000
DTEND;TZID=America/Halifax:20241102T170000
DTSTAMP:20260422T120512
CREATED:20241028T172715Z
LAST-MODIFIED:20241028T172715Z
UID:9957-1730548800-1730566800@cjcbradio.com
SUMMARY:Hello Cape Breton | Kwe' Unama'ki
DESCRIPTION:Hello Cape Breton | Kwe’ Unama’ki is a FREE community event that celebrates Cape Breton Island’s rich cultural diversity. It presents the opportunity to learn more about fellow citizen’s countries of origin and culture. \nThis year Hello Cape Breton | Kwe’ Unama’ki will take place at the Port of Sydney. Join us on November 2nd from 12pm-5pm for an unforgettable day filled with performances\, art\, music and food! \n
URL:https://cjcbradio.com/event/hello-cape-breton-kwe-unamaki/
END:VEVENT
END:VCALENDAR