BEGIN:VCALENDAR
VERSION:2.0
PRODID:-//CJCB - ECPv4.6.26//NONSGML v1.0//EN
CALSCALE:GREGORIAN
METHOD:PUBLISH
X-WR-CALNAME:CJCB
X-ORIGINAL-URL:https://cjcbradio.com
X-WR-CALDESC:Events for CJCB
BEGIN:VEVENT
DTSTART;TZID=America/Halifax:20200126T140000
DTEND;TZID=America/Halifax:20200126T170000
DTSTAMP:20260423T015646
CREATED:20200120T134424Z
LAST-MODIFIED:20200120T134424Z
UID:6192-1580047200-1580058000@cjcbradio.com
SUMMARY:Hike Nova Scotia
DESCRIPTION:Shores of Hogoma Snowshoe/Hike: Jan. 26\nHike Nova Scotia and the Whycocomagh Waterfront Centre Association present a guided hike/snowshoe in Whycocomagh on January 26 at 2 pm. Details at www.hikenovascotia.ca. \n
URL:https://cjcbradio.com/event/hike-nova-scotia-17/
END:VEVENT
END:VCALENDAR