BEGIN:VCALENDAR
VERSION:2.0
PRODID:-//CJCB - ECPv4.6.26//NONSGML v1.0//EN
CALSCALE:GREGORIAN
METHOD:PUBLISH
X-WR-CALNAME:CJCB
X-ORIGINAL-URL:https://cjcbradio.com
X-WR-CALDESC:Events for CJCB
BEGIN:VEVENT
DTSTART;TZID=America/Halifax:20200124T190000
DTEND;TZID=America/Halifax:20200124T210000
DTSTAMP:20260423T063602
CREATED:20200103T185342Z
LAST-MODIFIED:20200103T185342Z
UID:6155-1579892400-1579899600@cjcbradio.com
SUMMARY:Hike Nova Scotia
DESCRIPTION:North Highlands Nordic Snowshoe/Hike: Jan. 24\nHike Nova Scotia and North Highlands Nordic present a guided hike/snowshoe in Cape North on January 24 at 7 pm ($10). Registration details at www.hikenovascotia.ca. \n
URL:https://cjcbradio.com/event/hike-nova-scotia-9/
END:VEVENT
END:VCALENDAR