BEGIN:VCALENDAR
VERSION:2.0
PRODID:-//CJCB - ECPv4.6.26//NONSGML v1.0//EN
CALSCALE:GREGORIAN
METHOD:PUBLISH
X-WR-CALNAME:CJCB
X-ORIGINAL-URL:https://cjcbradio.com
X-WR-CALDESC:Events for CJCB
BEGIN:VEVENT
DTSTART;TZID=America/Halifax:20181124T100000
DTEND;TZID=America/Halifax:20181124T160000
DTSTAMP:20260419T154752
CREATED:20181113T185925Z
LAST-MODIFIED:20181113T185925Z
UID:4991-1543053600-1543075200@cjcbradio.com
SUMMARY:Holiday Market
DESCRIPTION:I would like to add an event for November 24th to the community events. Haley Street Adult Services Centre\, along with our Social Enterprises Nora’s and (re)Find will be having a Holiday Market in the main entrance of the North Sydney Mall from 10:00am -4:00pm. \n
URL:https://cjcbradio.com/event/holiday-market/
END:VEVENT
END:VCALENDAR