BEGIN:VCALENDAR
VERSION:2.0
PRODID:-//CJCB - ECPv4.6.26//NONSGML v1.0//EN
CALSCALE:GREGORIAN
METHOD:PUBLISH
X-WR-CALNAME:CJCB
X-ORIGINAL-URL:https://cjcbradio.com
X-WR-CALDESC:Events for CJCB
BEGIN:VEVENT
DTSTART;TZID=America/Halifax:20241207T120000
DTEND;TZID=America/Halifax:20241207T160000
DTSTAMP:20260422T172519
CREATED:20241202T155815Z
LAST-MODIFIED:20241202T155815Z
UID:10033-1733572800-1733587200@cjcbradio.com
SUMMARY:Holiday Vendor and Gift Sale
DESCRIPTION:Event Date December 7\, 2024 12-4pm\nNew Waterford Legion 3472 Plummer Avenue\nLots of local vendors and crafters to support. Admission by donation for the local food bank or non perishable items.\nBasket raffles\, Food by Jigs Curbside Cravings (weather permitting) \n
URL:https://cjcbradio.com/event/holiday-vendor-and-gift-sale/
END:VEVENT
END:VCALENDAR