BEGIN:VCALENDAR
VERSION:2.0
PRODID:-//CJCB - ECPv4.6.26//NONSGML v1.0//EN
CALSCALE:GREGORIAN
METHOD:PUBLISH
X-WR-CALNAME:CJCB
X-ORIGINAL-URL:https://cjcbradio.com
X-WR-CALDESC:Events for CJCB
BEGIN:VEVENT
DTSTART;TZID=America/Halifax:20230106T100000
DTEND;TZID=America/Halifax:20230106T120000
DTSTAMP:20260425T184052
CREATED:20221230T141601Z
LAST-MODIFIED:20221230T141601Z
UID:8771-1672999200-1673006400@cjcbradio.com
SUMMARY:Homeschool Meet Up
DESCRIPTION:Every Friday Morning 10am – 12am at the Glace Bay Library is the local Homeschool Meet up. \n
URL:https://cjcbradio.com/event/homeschool-meet-up/2023-01-06/
END:VEVENT
END:VCALENDAR