BEGIN:VCALENDAR
VERSION:2.0
PRODID:-//CJCB - ECPv4.6.26//NONSGML v1.0//EN
CALSCALE:GREGORIAN
METHOD:PUBLISH
X-WR-CALNAME:CJCB
X-ORIGINAL-URL:https://cjcbradio.com
X-WR-CALDESC:Events for CJCB
BEGIN:VEVENT
DTSTART;VALUE=DATE:20240526
DTEND;VALUE=DATE:20240527
DTSTAMP:20260422T190043
CREATED:20240522T121715Z
LAST-MODIFIED:20240522T121715Z
UID:9685-1716681600-1716767999@cjcbradio.com
SUMMARY:Hymn Sing May 26th @2pm@St. Paul's Presbyterian
DESCRIPTION:Join us this Sunday\, May 26th! All are welcome to join us in singing well-loved hymns and gospel songs at our Hymn Sing. Admission is free and tea and oatcakes will be served. Come sing with us at St. Paul’s in Glace Bay. \n
URL:https://cjcbradio.com/event/hymn-sing-may-26th-2pmst-pauls-presbyterian/
END:VEVENT
END:VCALENDAR