BEGIN:VCALENDAR
VERSION:2.0
PRODID:-//CJCB - ECPv4.6.26//NONSGML v1.0//EN
CALSCALE:GREGORIAN
METHOD:PUBLISH
X-WR-CALNAME:CJCB
X-ORIGINAL-URL:https://cjcbradio.com
X-WR-CALDESC:Events for CJCB
BEGIN:VEVENT
DTSTART;TZID=America/Halifax:20240609T120000
DTEND;TZID=America/Halifax:20240609T160000
DTSTAMP:20260423T162350
CREATED:20240522T121821Z
LAST-MODIFIED:20240523T184024Z
UID:9686-1717934400-1717948800@cjcbradio.com
SUMMARY:IMAC OutDoor Flea Market
DESCRIPTION:IMAC Florida Travel Team\, sponsored by the Southend Community Center\, Will be hosting an “OutDoor Flea Market” on June 9th from 12pm until 4pm at the back of the community center. Rain or Shine.  If its raining it will take place in the gym. LOTS of awesome stuff to purchase!!! BBQ on site. Cash only event!!! \n
URL:https://cjcbradio.com/event/imac-outdoor-flea-market/
END:VEVENT
END:VCALENDAR