BEGIN:VCALENDAR
VERSION:2.0
PRODID:-//CJCB - ECPv4.6.26//NONSGML v1.0//EN
CALSCALE:GREGORIAN
METHOD:PUBLISH
X-WR-CALNAME:CJCB
X-ORIGINAL-URL:https://cjcbradio.com
X-WR-CALDESC:Events for CJCB
BEGIN:VEVENT
DTSTART;TZID=America/Halifax:20231102T100000
DTEND;TZID=America/Halifax:20231102T140000
DTSTAMP:20260424T115614
CREATED:20231025T152438Z
LAST-MODIFIED:20231025T152438Z
UID:9327-1698919200-1698933600@cjcbradio.com
SUMMARY:Indoor Yard Sale
DESCRIPTION:Nov. 2\, 10:00am – 2:00pm. selling office supplies\, equipment\, furniture and more. Cash only (no debit on site) 762 Victoria Road\, Sydney \n
URL:https://cjcbradio.com/event/indoor-yard-sale/
END:VEVENT
END:VCALENDAR