BEGIN:VCALENDAR
VERSION:2.0
PRODID:-//CJCB - ECPv4.6.26//NONSGML v1.0//EN
CALSCALE:GREGORIAN
METHOD:PUBLISH
X-WR-CALNAME:CJCB
X-ORIGINAL-URL:https://cjcbradio.com
X-WR-CALDESC:Events for CJCB
BEGIN:VEVENT
DTSTART;TZID=America/Halifax:20250813T140000
DTEND;TZID=America/Halifax:20250813T150000
DTSTAMP:20260425T162802
CREATED:20250623T142405Z
LAST-MODIFIED:20250623T142405Z
UID:10291-1755093600-1755097200@cjcbradio.com
SUMMARY:Invisible Ink
DESCRIPTION:Glace Bay Library \nWed Aug 13     2-3pm \nMake your own invisible ink and write a secret message to decode. Registration is required. Please call 902-849-8657 or email glacebay@cbrl.ca to reserve your spot. \n
URL:https://cjcbradio.com/event/invisible-ink-2/
END:VEVENT
END:VCALENDAR