BEGIN:VCALENDAR
VERSION:2.0
PRODID:-//CJCB - ECPv4.6.26//NONSGML v1.0//EN
CALSCALE:GREGORIAN
METHOD:PUBLISH
X-WR-CALNAME:CJCB
X-ORIGINAL-URL:https://cjcbradio.com
X-WR-CALDESC:Events for CJCB
BEGIN:VEVENT
DTSTART;TZID=UTC+0:20171011T120000
DTEND;TZID=UTC+0:20171013T210000
DTSTAMP:20260424T233459
CREATED:20170927T173203Z
LAST-MODIFIED:20170927T173203Z
UID:1038-1507723200-1507928400@cjcbradio.com
SUMMARY:IODE Presents Autumn Treasures
DESCRIPTION:The Rt. Hon Vincent Massey C.H. Chapter IODE Presents Autumn Treasures.   An Exhibition and Sale of Paintings and Fine Art at Grand Lake Road Firehall.  Opening Reception Wednesday\, October 11\, 7 PM – 9 PM.  Exhibition & Sale Thursday\, Oct 12 & Friday Oct 13 from 12 noon – 9 PM.  Admission:  $3.  Featured Artist:  Cassie MacLeod.  Proceeds to CB Community Service Project. \n
URL:https://cjcbradio.com/event/iode-presents-autumn-treasures/
END:VEVENT
END:VCALENDAR