BEGIN:VCALENDAR
VERSION:2.0
PRODID:-//CJCB - ECPv4.6.26//NONSGML v1.0//EN
CALSCALE:GREGORIAN
METHOD:PUBLISH
X-WR-CALNAME:CJCB
X-ORIGINAL-URL:https://cjcbradio.com
X-WR-CALDESC:Events for CJCB
BEGIN:VEVENT
DTSTART;TZID=America/Halifax:20221023T160000
DTEND;TZID=America/Halifax:20221023T200000
DTSTAMP:20260422T172529
CREATED:20221017T125345Z
LAST-MODIFIED:20221017T125345Z
UID:8701-1666540800-1666555200@cjcbradio.com
SUMMARY:Jack Bonaparte caring and sharing Annual Telethon
DESCRIPTION:When: Sunday\, Oct. 23 from 4:00 pm – 8:00 pm\nPlace: Glace Bay Miners Forum \nFood and Monetary donations can be made at the venue or call in your donation during the show.\nE Transfer:\nglacebayfoodbank@gmail.com \nEveryone welcome to come down and watch our entertainment.\nOur need is great please help us help our community. \n“One can\, two can\, we all can” \nMore information call 902 849 0750 ask for Linda. \n
URL:https://cjcbradio.com/event/jack-bonaparte-caring-and-sharing-annual-telethon/
END:VEVENT
END:VCALENDAR