BEGIN:VCALENDAR
VERSION:2.0
PRODID:-//CJCB - ECPv4.6.26//NONSGML v1.0//EN
CALSCALE:GREGORIAN
METHOD:PUBLISH
X-WR-CALNAME:CJCB
X-ORIGINAL-URL:https://cjcbradio.com
X-WR-CALDESC:Events for CJCB
BEGIN:VEVENT
DTSTART;TZID=America/Halifax:20181102T103000
DTEND;TZID=America/Halifax:20181102T130000
DTSTAMP:20260423T114439
CREATED:20181026T135509Z
LAST-MODIFIED:20181026T135509Z
UID:4939-1541154600-1541163600@cjcbradio.com
SUMMARY:Jane's Walk - Glace Bay
DESCRIPTION:Everyone is invited to join a walk of downtown Glace Bay on Friday\, November 2\, followed by a complimentary lunch. Knox United Church and the CBU Tompkins Institute are hosting a “Jane’s Walk” on Friday\, November 2\, starting at 10:30 a.m. from Knox United Church – 270 Commercial St. We’ll share stories and ideas for the future of downtown. We’ll visit some unique sites. A lunch and discussion will follow the walk. There is no charge for the walk or lunch\, but please pre-register by calling 902-563-1226. This walk is part of a global series of walks named after the late Jane Jacobs\, famous champion of great downtowns and healthy neighbourhoods \n
URL:https://cjcbradio.com/event/janes-walk-glace-bay/
END:VEVENT
END:VCALENDAR