BEGIN:VCALENDAR
VERSION:2.0
PRODID:-//CJCB - ECPv4.6.26//NONSGML v1.0//EN
CALSCALE:GREGORIAN
METHOD:PUBLISH
X-WR-CALNAME:CJCB
X-ORIGINAL-URL:https://cjcbradio.com
X-WR-CALDESC:Events for CJCB
BEGIN:VEVENT
DTSTART;TZID=America/Halifax:20180609T140000
DTEND;TZID=America/Halifax:20180609T160000
DTSTAMP:20260422T140433
CREATED:20180605T124135Z
LAST-MODIFIED:20180605T124135Z
UID:1381-1528552800-1528560000@cjcbradio.com
SUMMARY:"Jane's Walk" -- New Aberdeen (Glace Bay)
DESCRIPTION:Everyone is welcome to the “Jane’s Walk” in the neighbourhood of New Aberdeen\, in Glace Bay. It will take place this Saturday\, June 9\, at 2 p.m. Beginning at Warden United Church\, we’ll walk the unique and special neighbourhood of New Aberdeen\, sharing stories and ideas about the community. All ages are very welcome. Refreshments will follow. This “Jane’s Walk” is one of hundreds of Jane’s Walks around the world inspired by the late Jane Jacobs\, a celebrated champion of healthy cities and neighbourhoods. There is no charge and no pre-registration. For more information\, please contact Rev. Alison Etter at 902-849-6973. \n
URL:https://cjcbradio.com/event/janes-walk-new-aberdeen-glace-bay/
END:VEVENT
END:VCALENDAR