BEGIN:VCALENDAR
VERSION:2.0
PRODID:-//CJCB - ECPv4.6.26//NONSGML v1.0//EN
CALSCALE:GREGORIAN
METHOD:PUBLISH
X-WR-CALNAME:CJCB
X-ORIGINAL-URL:https://cjcbradio.com
X-WR-CALDESC:Events for CJCB
BEGIN:VEVENT
DTSTART;TZID=America/Halifax:20241102T140000
DTEND;TZID=America/Halifax:20241102T160000
DTSTAMP:20260422T063512
CREATED:20241031T140018Z
LAST-MODIFIED:20241031T140018Z
UID:9968-1730556000-1730563200@cjcbradio.com
SUMMARY:JR Dungeons and Dragons
DESCRIPTION: Glace Bay Library \nEvery Saturday 2-4pm \n  \n
URL:https://cjcbradio.com/event/jr-dungeons-and-dragons-4/2024-11-02/
END:VEVENT
END:VCALENDAR