BEGIN:VCALENDAR
VERSION:2.0
PRODID:-//CJCB - ECPv4.6.26//NONSGML v1.0//EN
CALSCALE:GREGORIAN
METHOD:PUBLISH
X-WR-CALNAME:CJCB
X-ORIGINAL-URL:https://cjcbradio.com
X-WR-CALDESC:Events for CJCB
BEGIN:VEVENT
DTSTART;TZID=America/Halifax:20240803T140000
DTEND;TZID=America/Halifax:20240803T150000
DTSTAMP:20260422T170817
CREATED:20240729T135134Z
LAST-MODIFIED:20240729T135134Z
UID:9819-1722693600-1722697200@cjcbradio.com
SUMMARY:JR Dungeons and Dragons
DESCRIPTION:Glace Bay Library \nEvery Saturday in August \n2-3pm \n
URL:https://cjcbradio.com/event/jr-dungeons-and-dragons/2024-08-03/
END:VEVENT
END:VCALENDAR