BEGIN:VCALENDAR
VERSION:2.0
PRODID:-//CJCB - ECPv4.6.26//NONSGML v1.0//EN
CALSCALE:GREGORIAN
METHOD:PUBLISH
X-WR-CALNAME:CJCB
X-ORIGINAL-URL:https://cjcbradio.com
X-WR-CALDESC:Events for CJCB
BEGIN:VEVENT
DTSTART;TZID=America/Halifax:20240207T180000
DTEND;TZID=America/Halifax:20240207T190000
DTSTAMP:20260422T214207
CREATED:20240201T184124Z
LAST-MODIFIED:20240201T184124Z
UID:9541-1707328800-1707332400@cjcbradio.com
SUMMARY:Kids On Canvas
DESCRIPTION:Glace Bay Library \nWed Feb 7 \n6-7 \nJoin us for an evening of cute Valentines Day Crafts. \n
URL:https://cjcbradio.com/event/kids-on-canvas-6/
END:VEVENT
END:VCALENDAR