BEGIN:VCALENDAR
VERSION:2.0
PRODID:-//CJCB - ECPv4.6.26//NONSGML v1.0//EN
CALSCALE:GREGORIAN
METHOD:PUBLISH
X-WR-CALNAME:CJCB
X-ORIGINAL-URL:https://cjcbradio.com
X-WR-CALDESC:Events for CJCB
BEGIN:VEVENT
DTSTART;TZID=America/Halifax:20240508T180000
DTEND;TZID=America/Halifax:20240508T183000
DTSTAMP:20260422T085417
CREATED:20240507T184051Z
LAST-MODIFIED:20240507T184051Z
UID:9647-1715191200-1715193000@cjcbradio.com
SUMMARY:Kids On Canvas
DESCRIPTION:Glace Bay Library \nWed May 8 \n6 – 6:30 \nJoin us and get creative making thumbprint Hyacinth Flower Art. Registration is required. Please call 902-849-8657 or email glacebay@cbrl.ca. \n
URL:https://cjcbradio.com/event/kids-on-canvas-7/
END:VEVENT
END:VCALENDAR